BEGIN:VCALENDAR
VERSION:2.0
PRODID:-//ChamberMaster//Event Calendar 2.0//EN
METHOD:PUBLISH
X-PUBLISHED-TTL:P3D
REFRESH-INTERVAL:P3D
CALSCALE:GREGORIAN
BEGIN:VEVENT
DTSTART:20221202T160000Z
DTEND:20221202T170000Z
X-MICROSOFT-CDO-ALLDAYEVENT:FALSE
SUMMARY:Able Inc. Grand Opening
DESCRIPTION:MEDIA ADVISORY\n\n\n\nAble Inc. GRAND OPENING\n\nMedia Alert: Friday\, December 2nd\, from 8:00 am   9:30 am Ribbon Cutting at 8:30 am Location: 2505 N. Shirk Rd\, Visalia\, CA 93291\n\n\nWHO: Able Inc. formerly Able Industries\, Inc.\n\n\n\nWHAT: We would like to cordially invite you to our VIP Grand Opening Event on Friday\, December 2\, 2022\, from 8:00 am to 9:30 am. We will be having a ribbon-cutting ceremony at 8:30 am\, followed by a short presentation. Refreshments and tours of our new home will be provided along with a free raffle. Please visit our events page @ www.ableinc.org to RSVP or scan the QR code on the invite attached. The media is welcome to join us for setup and for the event.\n\n\n\nWHEN: 8:00 am to 9:30 am on Friday\, December 2nd\, 2022. Ribbon Cutting Ceremony at 8:30 am.\n\n\n\nABOUT: Able Inc. is a job training and life skills program dedicated to creating opportunities\, facilitating connections\, and reducing stigma for people with disabilities in the Central Valley. Our mission is to integrate people with disabilities into the community by creating person-centered opportunities for empowerment\, independence\, and employment.
X-ALT-DESC;FMTTYPE=text/html:<div style="text-align: center\;"><strong>MEDIA ADVISORY</strong><br />\n<br />\n<strong>Able Inc. GRAND OPENING<br />\nMedia Alert: Friday\, December 2nd\, from 8:00 am &ndash\; 9:30 am Ribbon Cutting at 8:30 am Location: 2505 N. Shirk Rd\, Visalia\, CA 93291</strong></div>\n<br />\n<strong>WHO:</strong> Able Inc. formerly Able Industries\, Inc.<br />\n<br />\n<strong>WHAT: </strong>We would like to cordially invite you to our VIP Grand Opening Event on Friday\, December 2\, 2022\, from 8:00 am to 9:30 am. We will be having a ribbon-cutting ceremony at 8:30 am\, followed by a short presentation. Refreshments and tours of our new home will be provided along with a free raffle. Please visit our events page @ www.ableinc.org to RSVP or scan the QR code on the invite attached. The media is welcome to join us for setup and for the event.<br />\n<br />\n<strong>WHEN:</strong> 8:00 am to 9:30 am on Friday\, December 2nd\, 2022. Ribbon Cutting Ceremony at 8:30 am.<br />\n<br />\n<strong>ABOUT: </strong>Able Inc. is a job training and life skills program dedicated to creating opportunities\, facilitating connections\, and reducing stigma for people with disabilities in the Central Valley. Our mission is to integrate people with disabilities into the community by creating person-centered opportunities for empowerment\, independence\, and employment.
LOCATION:
UID:e.1273.14154
SEQUENCE:3
DTSTAMP:20260423T181446Z
URL:http://visaliachamber-dev.chambermaster.com/events/details/able-inc-grand-opening-14154
END:VEVENT

END:VCALENDAR
