BEGIN:VCALENDAR
VERSION:2.0
PRODID:-//ChamberMaster//Event Calendar 2.0//EN
METHOD:PUBLISH
X-PUBLISHED-TTL:P3D
REFRESH-INTERVAL:P3D
CALSCALE:GREGORIAN
BEGIN:VEVENT
DTSTART:20220710T150000Z
DTEND:20220711T000000Z
X-MICROSOFT-CDO-ALLDAYEVENT:FALSE
SUMMARY:COS: Restorative Nursing Assistant Training
DESCRIPTION:The C.O.S. Training Resource Center is offering this 2 day training to Certified Nursing Assistants (C.N.A.'s) in our area with the hopes of providing new skill sets to assist with career advancement.
X-ALT-DESC;FMTTYPE=text/html:The C.O.S. Training Resource Center is offering this 2 day training to Certified Nursing Assistants (C.N.A.&#39\;s) in our area with the hopes of providing new skill sets to assist with career advancement.
LOCATION:C.O.S. Visalia Campus
UID:e.1273.13704
SEQUENCE:3
DTSTAMP:20260425T173403Z
URL:http://visaliachamber-dev.chambermaster.com/events/details/cos-restorative-nursing-assistant-training-13704
END:VEVENT

END:VCALENDAR
