BEGIN:VCALENDAR
VERSION:2.0
PRODID:-//ChamberMaster//Event Calendar 2.0//EN
METHOD:PUBLISH
X-PUBLISHED-TTL:P3D
REFRESH-INTERVAL:P3D
CALSCALE:GREGORIAN
BEGIN:VEVENT
DTSTART:20221203T010000Z
DTEND:20221203T073000Z
X-MICROSOFT-CDO-ALLDAYEVENT:FALSE
SUMMARY:Cowboy Christmas
DESCRIPTION:Cowboy Christmas\n\nRiding in on December 2\, 2022 \n\nContinue to check back for future announcements!
X-ALT-DESC;FMTTYPE=text/html:<h1 style="margin: 0px 0px 24px\; color: rgb(17\, 69\, 105)\; font-family: Oswald\; font-size: 44px\; letter-spacing: 0px\; line-height: 1.5em\; text-align: center\; white-space: pre-wrap\;">Cowboy Christmas</h1>\n\n<p style="font-family: Oswald\; font-size: 20px\; letter-spacing: 0.4px\; line-height: 1.6em\; margin: 24px 0px\; overflow-wrap: break-word\; color: rgb(23\, 23\, 23)\; text-align: center\; white-space: pre-wrap\;"><strong style="overflow-wrap: break-word\;"><em style="overflow-wrap: break-word\;">Riding in on December 2\, 2022&hellip\;</em></strong></p>\n\n<p style="font-family: Oswald\; font-size: 20px\; letter-spacing: 0.4px\; line-height: 1.6em\; margin: 24px 0px 0px\; overflow-wrap: break-word\; color: rgb(23\, 23\, 23)\; text-align: center\; white-space: pre-wrap\;"><strong style="overflow-wrap: break-word\;">Continue to check back for future announcements!</strong></p>\n
LOCATION:International Agri-Center
UID:e.1273.14039
SEQUENCE:3
DTSTAMP:20260426T032857Z
URL:http://visaliachamber-dev.chambermaster.com/events/details/cowboy-christmas-14039
END:VEVENT

END:VCALENDAR
