BEGIN:VCALENDAR
VERSION:2.0
PRODID:-//ChamberMaster//Event Calendar 2.0//EN
METHOD:PUBLISH
X-PUBLISHED-TTL:P3D
REFRESH-INTERVAL:P3D
CALSCALE:GREGORIAN
BEGIN:VEVENT
DTSTART:20260515T170000Z
DTEND:20260515T180000Z
X-MICROSOFT-CDO-ALLDAYEVENT:FALSE
SUMMARY:Member Momentum Workshop
DESCRIPTION:Maximize Your Membership & Connections!\n\n\n\nThis workshop is designed for new members\, new employees\, or anyone looking for a refresher helping you explore your benefits\, discover opportunities\, and stay connected with the Chamber community.
X-ALT-DESC;FMTTYPE=text/html:<strong>Maximize Your Membership &amp\; Connections!</strong><br />\n<br />\n<span class="a_GcMg font-feature-liga-off font-feature-clig-off font-feature-calt-off text-decoration-none text-strikethrough-none" style="font-kerning: none\; caret-color: rgb(255\, 255\, 255)\; --Ys-XuQ: none\;">This workshop is designed for new members\, new employees\, or anyone looking for a refresher&mdash\;helping you explore your benefits\, discover opportunities\, and stay connected with the Chamber community.</span>
LOCATION:Visalia Chamber Office (across from the County Courthouse\, along Mooney Blvd & Burrel Ave\; first office to the left when you enter through the office gates)
UID:e.1273.22969
SEQUENCE:3
DTSTAMP:20260425T102659Z
URL:http://visaliachamber-dev.chambermaster.com/events/details/member-momentum-workshop-22969
END:VEVENT

END:VCALENDAR
