BEGIN:VCALENDAR
VERSION:2.0
PRODID:-//ChamberMaster//Event Calendar 2.0//EN
METHOD:PUBLISH
X-PUBLISHED-TTL:P3D
REFRESH-INTERVAL:P3D
CALSCALE:GREGORIAN
BEGIN:VEVENT
DTSTART:20220924T020000Z
DTEND:20220924T040000Z
X-MICROSOFT-CDO-ALLDAYEVENT:FALSE
SUMMARY:Visalia Fox Theatre: National Treasure sponsored by the Visalia Masonic Lodge
DESCRIPTION:National Treasure   The Movie\n\nFriday\, September 23rd\n\nDoors open at 6:00PM\n\nShow starts at 7:00PM
X-ALT-DESC;FMTTYPE=text/html:<h3>National Treasure &ndash\; The Movie</h3>\n\n<div>Friday\, September 23rd</div>\n\n<div>Doors open at 6:00PM<br />\nShow starts at 7:00PM</div>\n
LOCATION:Visalia Fox Theatre
UID:e.1273.14021
SEQUENCE:3
DTSTAMP:20260424T165213Z
URL:http://visaliachamber-dev.chambermaster.com/events/details/national-treasure-14021
END:VEVENT

END:VCALENDAR
